BEGIN:VCALENDAR
VERSION:2.0
PRODID:-//ChamberMaster//Event Calendar 2.0//EN
METHOD:PUBLISH
X-PUBLISHED-TTL:P3D
REFRESH-INTERVAL:P3D
CALSCALE:GREGORIAN
BEGIN:VEVENT
DTSTART:20171114T140000Z
DTEND:20171114T160000Z
X-MICROSOFT-CDO-ALLDAYEVENT:FALSE
SUMMARY:New and Not So New Member Orientation
DESCRIPTION:Join us to find out more about your member benefits and how to make the most of your online member directory listing!
X-ALT-DESC;FMTTYPE=text/html:Join us to find out more about your member benefits and how to make the most of your online member directory listing!
LOCATION:MSBIA Office 6650 Professional Parkway West Suite 102 Sarasota\, FL 34240
UID:e.9232.1595
SEQUENCE:3
DTSTAMP:20260423T012557Z
URL:https://business.ms-bia.org/events/details/new-and-not-so-new-member-orientation-1595
END:VEVENT

END:VCALENDAR
