BEGIN:VCALENDAR
VERSION:2.0
PRODID:-//ChamberMaster//Event Calendar 2.0//EN
METHOD:PUBLISH
X-PUBLISHED-TTL:P3D
REFRESH-INTERVAL:P3D
CALSCALE:GREGORIAN
BEGIN:VEVENT
DTSTART:20170131T140000Z
DTEND:20170131T160000Z
X-MICROSOFT-CDO-ALLDAYEVENT:FALSE
SUMMARY:New and Not So New Member Orientation
DESCRIPTION:Join us to find out more about your MONEY SAVING member benefits and how to make the most of your online marketing with your MS-BIA.ORG directory listing!
X-ALT-DESC;FMTTYPE=text/html:<span style="font-family: Arial\; font-size: 12px\;">Join us to find out more about your M</span><span style="font-family: Arial\; font-size: 12px\;">ONEY</span><span style="font-family: Arial\; font-size: 12px\;">&nbsp\;SAVIN</span><span style="font-family: Arial\; font-size: 12px\;">G&nbsp\;</span><span style="font-family: Arial\; font-size: 12px\;">member benefits and how to make the most of your online marketing with your</span><span style="font-family: Arial\; font-size: 12px\;">&nbsp\;MS-BIA.</span><span style="font-family: Arial\; font-size: 12px\;">ORG directory listing!</span>
LOCATION:MSBIA Office
UID:e.9232.1593
SEQUENCE:3
DTSTAMP:20260422T084325Z
URL:https://business.ms-bia.org/events/details/new-and-not-so-new-member-orientation-1593
END:VEVENT

END:VCALENDAR
