BEGIN:VCALENDAR
VERSION:2.0
PRODID:-//ChamberMaster//Event Calendar 2.0//EN
METHOD:PUBLISH
X-PUBLISHED-TTL:P3D
REFRESH-INTERVAL:P3D
CALSCALE:GREGORIAN
BEGIN:VEVENT
DTSTART:20250402T200000Z
DTEND:20250402T210000Z
X-MICROSOFT-CDO-ALLDAYEVENT:FALSE
SUMMARY:Multi-Family Council Meeting
DESCRIPTION:Join the Multi-Family Council\, where developers\, owners\, builders\, investors\, and industry leaders come together to shape the future of multi-family housing development and investment.\n\nThis Council fosters expertise\, facilitates valuable connections\, and advocates for policies that support sustainable growth. Together\, we strengthen industry leadership and equip members to thrive across a broad spectrum of development and investment goals.\n\n\n\nDon't miss this opportunity to connect\, collaborate\, and lead in the multi-family housing industry!
X-ALT-DESC;FMTTYPE=text/html:<p data-end="316" data-start="112"><span style="font-size:16px\;"><span style="font-family:times new roman\;">Join the Multi-Family Council\, where developers\, owners\, builders\, investors\, and industry leaders&nbsp\;come together to shape the future of multi-family housing development and investment.</span></span></p>\n\n<p data-end="578" data-start="318"><span style="font-size:16px\;"><span style="font-family:times new roman\;">This Council fosters expertise\, facilitates valuable connections\, and advocates for policies that support sustainable growth. Together\, we strengthen industry leadership and equip members to thrive across a broad spectrum of development and investment goals.<br />\n<br />\nDon&rsquo\;t miss this opportunity to connect\, collaborate\, and lead in the multi-family housing industry!</span></span></p>\n
LOCATION:Suncoast Builders Association 6650 Professional Parkway West Suite 102 Sarasota\, 34240
UID:e.9232.4939
SEQUENCE:3
DTSTAMP:20260419T203725Z
URL:https://business.ms-bia.org/events/details/multi-family-council-meeting-4939
END:VEVENT

END:VCALENDAR
