BEGIN:VCALENDAR
VERSION:2.0
PRODID:-//ChamberMaster//Event Calendar 2.0//EN
METHOD:PUBLISH
X-PUBLISHED-TTL:P3D
REFRESH-INTERVAL:P3D
CALSCALE:GREGORIAN
BEGIN:VEVENT
DTSTART:20151019T200000Z
DTEND:20151019T210000Z
X-MICROSOFT-CDO-ALLDAYEVENT:FALSE
SUMMARY:MSBIA Govenment Affairs Committee
DESCRIPTION:GOVERNMENT AFFAIRS COMMITTEE is open to all members of the Association. To serve as a recommending body to the BIA Executive Committee and Board of Directors for policy development and action on the government affairs issues of either local or statewide impact to the home building industry. The Government Affairs Committee Chair acts as a liaison between the Committee and the Board. The committee meets at the MSBIA office the third Monday of each month at 4pm.
X-ALT-DESC;FMTTYPE=text/html:<span style="box-sizing: border-box\; font-family: 'Open Sans'\, sans-serif\; font-size: 16px\; line-height: 20px\; color: rgb(0\, 88\, 144)\;"><strong style="box-sizing: border-box\;">GOVERNMENT AFFAIRS COMMITTEE</strong></span><span style="color: rgb(68\, 68\, 68)\; font-family: 'Open Sans'\, sans-serif\; font-size: 16px\; line-height: 20px\;">&nbsp\;is open to all members of the Association.&nbsp\;To serve as a recommending body to the BIA Executive Committee and Board of Directors for policy development and action on the government affairs issues of either local or statewide impact to the home building industry.&nbsp\;The Government Affairs Committee Chair acts as&nbsp\;a liaison between the Committee and the Board. The committee meets at the MSBIA office the third Monday of each month at 4pm.</span>
LOCATION:Manatee-Sarasota BIA 6983 Professional Parkway East Sarasota\, FL 34240
UID:e.9232.621
SEQUENCE:3
DTSTAMP:20260421T161025Z
URL:https://business.ms-bia.org/events/details/msbia-govenment-affairs-committee-10-19-2015-621
END:VEVENT

END:VCALENDAR
