BEGIN:VCALENDAR
VERSION:2.0
PRODID:-//ChamberMaster//Event Calendar 2.0//EN
METHOD:PUBLISH
X-PUBLISHED-TTL:P3D
REFRESH-INTERVAL:P3D
CALSCALE:GREGORIAN
BEGIN:VEVENT
DTSTART:20171207T220000Z
DTEND:20171208T023000Z
X-MICROSOFT-CDO-ALLDAYEVENT:FALSE
SUMMARY:MSBIA Christmas Casino Party
DESCRIPTION:MS-BIA Christmas Party & Casino ~ Hosted by the Sales & Marketing Council and the MSBIA Membership Team\n\n\n\nProceeds to benefit: Florida Baptist Children's Homes
X-ALT-DESC;FMTTYPE=text/html:MS-BIA Christmas Party &amp\; Casino ~ Hosted by the Sales &amp\; Marketing Council and the MSBIA Membership Team<br />\n<br />\nProceeds to benefit: Florida Baptist Children&#39\;s Homes
LOCATION:Gold Coast Eagle Distributing (Budweiser) 7051 Wireless Ct. Sarasota\, FL 34240
UID:e.9232.1740
SEQUENCE:3
DTSTAMP:20260423T012305Z
URL:https://business.ms-bia.org/events/details/msbia-christmas-casino-party-1740
END:VEVENT

END:VCALENDAR
