BEGIN:VCALENDAR
VERSION:2.0
PRODID:-//ChamberMaster//Event Calendar 2.0//EN
METHOD:PUBLISH
X-PUBLISHED-TTL:P3D
REFRESH-INTERVAL:P3D
CALSCALE:GREGORIAN
BEGIN:VEVENT
DTSTART:20180608T170000Z
DTEND:20180608T200000Z
X-MICROSOFT-CDO-ALLDAYEVENT:FALSE
SUMMARY:MSBIA 500
DESCRIPTION:MSBIA 500\n\nCome join us for a Membership Event with an afternoon of racing!
X-ALT-DESC;FMTTYPE=text/html:MSBIA 500<br />\nCome join us for a Membership Event with an afternoon of racing!&nbsp\;&nbsp\;&nbsp\;&nbsp\;
LOCATION:Anderson RacePark 10101 U.S. Highway 41 North Palmetto\, FL 34221
UID:e.9232.1886
SEQUENCE:3
DTSTAMP:20260423T114837Z
URL:https://business.ms-bia.org/events/details/msbia-500-1886
END:VEVENT

END:VCALENDAR
