BEGIN:VCALENDAR
VERSION:2.0
PRODID:-//ChamberMaster//Event Calendar 2.0//EN
METHOD:PUBLISH
X-PUBLISHED-TTL:P3D
REFRESH-INTERVAL:P3D
CALSCALE:GREGORIAN
BEGIN:VEVENT
DTSTART:20170215T223000Z
DTEND:20170216T013000Z
X-MICROSOFT-CDO-ALLDAYEVENT:FALSE
SUMMARY:Membership Meeting / NAHB Economic Update
DESCRIPTION:"NAHB Economic Update"\n\nRobert Dietz\, Ph.D.\, is Chief Economist for NAHB\, where his responsibilities include housing market analysis\, forecasting and industry surveys\, and housing policy research. Prior to joining NAHB in 2005\, Robert worked as an economist for the Congressional Joint Committee on Taxation. He has testified before Congress on housing\, economic and tax issues. Robert is an expert on home construction analysis and trends and has been cited and appeared on CNBC\, the Wall Street Journal\, and other news media. He is a native of Dayton\, Ohio and earned a Ph.D. in Economics from the Ohio State University in 2003.
X-ALT-DESC;FMTTYPE=text/html:<span style="font-size:14px\;"><span style="font-family:arial\;">&quot\;NAHB&nbsp\;Economic Update&quot\;<br />\n<span style="font-weight:bold\;language:en-US\;">Robert Dietz\, Ph.D.\, </span>is Chief Economist for NAHB\, where his responsibilities include housing market analysis\, forecasting and industry surveys\, and housing policy research. Prior to joining NAHB in 2005\, Robert worked as an economist for the Congressional Joint Committee on Taxation. He has testified before Congress on housing\, economic and tax issues. Robert is&nbsp\;an expert on home construction analysis and trends and has been cited and appeared on CNBC\, the Wall Street Journal\, and other news media. He is a native of Dayton\, Ohio and earned a Ph.D. in Economics from the Ohio State University in 2003.<br />\n&nbsp\;</span></span><br />\n&nbsp\;
LOCATION:Gold Coast Eagle Distributors 7051 Wireless Ct. Sarasota\, FL 34240
UID:e.9232.1596
SEQUENCE:3
DTSTAMP:20260422T090856Z
URL:https://business.ms-bia.org/events/details/membership-meeting-nahb-economic-update-1596
END:VEVENT

END:VCALENDAR
