BEGIN:VCALENDAR
VERSION:2.0
PRODID:-//ChamberMaster//Event Calendar 2.0//EN
METHOD:PUBLISH
X-PUBLISHED-TTL:P3D
REFRESH-INTERVAL:P3D
CALSCALE:GREGORIAN
BEGIN:VEVENT
DTSTART:20260210T203000Z
DTEND:20260210T213000Z
X-MICROSOFT-CDO-ALLDAYEVENT:FALSE
SUMMARY:Membership Committee Meeting
DESCRIPTION:Please join us for our upcoming Membership Committee meeting!\n\nYour voice matters\, and we'd love for you to be part of the conversation as we shape the future of our membership program. This is a great opportunity to share your ideas\, collaborate with fellow members\, and help us create new ways to engage and support our community.\n\nYour participation makes a real difference we look forward to seeing you there!
X-ALT-DESC;FMTTYPE=text/html:<p data-end="134" data-start="64">&#127775\; Please join us for our upcoming <strong data-end="132" data-start="99">Membership Committee meeting!</strong></p>\n\n<p data-end="407" data-start="136">Your voice matters\, and we&rsquo\;d love for you to be part of the conversation as we shape the future of our membership program. This is a great opportunity to share your ideas\, collaborate with fellow members\, and help us create new ways to engage and support our community.</p>\n\n<p data-end="490" data-start="409">Your participation makes a real difference&mdash\;we look forward to seeing you there!</p>\n
LOCATION:Suncoast Builders Association 6650 Professional Parkway W\, Suite 102 Sarasota\, FL 34240
UID:e.9232.5315
SEQUENCE:3
DTSTAMP:20260421T161345Z
URL:https://business.ms-bia.org/events/details/membership-committee-meeting-02-10-2026-5315
END:VEVENT

END:VCALENDAR
