BEGIN:VCALENDAR
VERSION:2.0
PRODID:-//ChamberMaster//Event Calendar 2.0//EN
METHOD:PUBLISH
X-PUBLISHED-TTL:P3D
REFRESH-INTERVAL:P3D
CALSCALE:GREGORIAN
BEGIN:VEVENT
DTSTART:20150319T213000Z
DTEND:20150319T233000Z
X-MICROSOFT-CDO-ALLDAYEVENT:FALSE
SUMMARY:Member Mixer at Sarasota Ford
DESCRIPTION:Come Mix and Mingle with your fellow members!
X-ALT-DESC;FMTTYPE=text/html:<span style="color:#000000\;"><span style="font-size:12px\;"><span style="font-family:arial\;"><span style="font-weight:bold\;language:en-US\;">Come Mix and Mingle with your fellow members! </span></span></span></span><br />\n&nbsp\;
LOCATION:Sarasota Ford 707 S. Washington Blvd. Sarasota\, FL 34236
UID:e.9232.597
SEQUENCE:3
DTSTAMP:20260422T015156Z
URL:https://business.ms-bia.org/events/details/member-mixer-at-sarasota-ford-03-19-2015-597
END:VEVENT

END:VCALENDAR
