BEGIN:VCALENDAR
VERSION:2.0
PRODID:-//ChamberMaster//Event Calendar 2.0//EN
METHOD:PUBLISH
X-PUBLISHED-TTL:P3D
REFRESH-INTERVAL:P3D
CALSCALE:GREGORIAN
BEGIN:VEVENT
DTSTART:20150611T213000Z
DTEND:20150611T233000Z
X-MICROSOFT-CDO-ALLDAYEVENT:FALSE
SUMMARY:Member Mixer at Lube
DESCRIPTION:Come Mix and Mingle with your fellow members! Be sure to bring plenty of business cards! \n\n\n\nLUB  of Sarasota invites you to visit their showroom\, to take a look around\, enjoy some yummy treats and network.
X-ALT-DESC;FMTTYPE=text/html:<span style="font-size:16px\;"><span style="font-family:arial\;">Come Mix and Mingle with your fellow members! Be sure to bring plenty of business cards!&nbsp\;</span></span><br />\n<br />\n<span style="color:#FF0000\;"><span style="line-height: 22.3999996185303px\;">LUB</span>&Eacute\;<span style="font-family: arial\; font-size: 14px\; line-height: 22.3999996185303px\;">&nbsp\;of Sarasota</span></span><span style="color: rgb(0\, 0\, 0)\; font-family: arial\; font-size: 14px\; line-height: 22.3999996185303px\;">&nbsp\;</span><span style="font-size:16px\;"><span style="font-family:arial\;">invites you to visit their<span style="color: rgb(34\, 34\, 34)\; line-height: normal\;">&nbsp\;showroom\, to take a look around\, enjoy some yummy treats and network.</span></span></span>
LOCATION:LUB of Sarasota 53 S Palm Avenue #A Sarasota \, FL 34236
UID:e.9232.606
SEQUENCE:3
DTSTAMP:20260421T204332Z
URL:https://business.ms-bia.org/events/details/member-mixer-at-lube-06-11-2015-606
END:VEVENT

END:VCALENDAR
