BEGIN:VCALENDAR
VERSION:2.0
PRODID:-//ChamberMaster//Event Calendar 2.0//EN
METHOD:PUBLISH
X-PUBLISHED-TTL:P3D
REFRESH-INTERVAL:P3D
CALSCALE:GREGORIAN
BEGIN:VEVENT
DTSTART:20180123T223000Z
DTEND:20180124T010000Z
X-MICROSOFT-CDO-ALLDAYEVENT:FALSE
SUMMARY:Member Mixer at Italian Interiors
DESCRIPTION:Cordially invited to a Member Mixer at Italian Interiors. Come enjoy light bites and libations.
X-ALT-DESC;FMTTYPE=text/html:Cordially invited to a Member Mixer at Italian Interiors. Come enjoy light bites and libations.
LOCATION:3333 N. Washington Blvd. Sarasota\, FL 34234
UID:e.9232.1845
SEQUENCE:3
DTSTAMP:20260423T032414Z
URL:https://business.ms-bia.org/events/details/member-mixer-at-italian-interiors-1845
END:VEVENT

END:VCALENDAR
