BEGIN:VCALENDAR
VERSION:2.0
PRODID:-//ChamberMaster//Event Calendar 2.0//EN
METHOD:PUBLISH
X-PUBLISHED-TTL:P3D
REFRESH-INTERVAL:P3D
CALSCALE:GREGORIAN
BEGIN:VEVENT
DTSTART:20180808T213000Z
DTEND:20180808T233000Z
X-MICROSOFT-CDO-ALLDAYEVENT:FALSE
SUMMARY:Member Mixer at Ferguson Bath\, Kitchen & Lighting Gallery
DESCRIPTION:Come Mix and Mingle with your fellow members! \n\nAppetizers and Drinks Provided\n\n\n\n\n\nAND DON'T FORGET YOUR BUSINESS CARDS!!!
X-ALT-DESC;FMTTYPE=text/html:<p><span style="font-size:16px\;"><span style="font-family:arial\;"><span style="font-weight:bold\;language:en-US\;">Come Mix and Mingle with your fellow members! </span><br />\n<span style="font-weight:bold\;language:en-US\;">Appetizers and Drinks Provided</span><br />\n<br />\n<br />\n<span style="font-weight:bold\;language:en-US\;">AND DON&rsquo\;T FORGET YOUR BUSINESS CARDS!!!</span></span></span></p>\n
LOCATION:Ferguson Bath\, Kitchen & Lighting Gallery 2451 17th Street\, Sarasota\, FL 34234
UID:e.9232.1893
SEQUENCE:3
DTSTAMP:20260423T151211Z
URL:https://business.ms-bia.org/events/details/member-mixer-at-ferguson-bath-kitchen-lighting-gallery-1893
END:VEVENT

END:VCALENDAR
