BEGIN:VCALENDAR
VERSION:2.0
PRODID:-//ChamberMaster//Event Calendar 2.0//EN
METHOD:PUBLISH
X-PUBLISHED-TTL:P3D
REFRESH-INTERVAL:P3D
CALSCALE:GREGORIAN
BEGIN:VEVENT
DTSTART:20180628T213000Z
DTEND:20180628T233000Z
X-MICROSOFT-CDO-ALLDAYEVENT:FALSE
SUMMARY:Member Mixer at D & D Garage Doors
DESCRIPTION:Come Mix and Mingle with your fellow members! Be sure to bring plenty of business cards! \n\n \nD&D Garage Doors invites you to visit their showroom\, enjoy some food and drinks\, network with your fellow members and win some fabulous raffle prizes!
X-ALT-DESC;FMTTYPE=text/html:<span style="color: rgb(51\, 51\, 51)\; font-family: arial\; font-size: 14px\; background-color: rgb(255\, 255\, 255)\;">Come Mix and Mingle with your fellow members! Be sure to bring plenty of business cards!&nbsp\;</span><br style="color: rgb(51\, 51\, 51)\; font-family: arial\; font-size: 14px\; background-color: rgb(255\, 255\, 255)\;" />\n&nbsp\;\n<div><span style="color: rgb(51\, 51\, 51)\; font-family: arial\; font-size: 14px\; background-color: rgb(255\, 255\, 255)\;">D&amp\;D Garage Doors invites you to visit their</span><span style="font-family: arial\; font-size: 14px\; background-color: rgb(255\, 255\, 255)\; color: rgb(34\, 34\, 34)\; line-height: normal\;">&nbsp\;showroom\, enjoy some food and drinks\, network with your fellow members and win some fabulous raffle prizes!&nbsp\;</span></div>\n
LOCATION:1177 Cattlemen Road Sarasota\, FL 34232
UID:e.9232.1876
SEQUENCE:3
DTSTAMP:20260423T114843Z
URL:https://business.ms-bia.org/events/details/member-mixer-at-d-d-garage-doors-1876
END:VEVENT

END:VCALENDAR
