BEGIN:VCALENDAR
VERSION:2.0
PRODID:-//ChamberMaster//Event Calendar 2.0//EN
METHOD:PUBLISH
X-PUBLISHED-TTL:P3D
REFRESH-INTERVAL:P3D
CALSCALE:GREGORIAN
BEGIN:VEVENT
DTSTART:20150924T210000Z
DTEND:20150924T230000Z
X-MICROSOFT-CDO-ALLDAYEVENT:FALSE
SUMMARY:Member Mixer at D&D Garage Doors
DESCRIPTION:Come Mix and Mingle with your fellow members! Be sure to bring plenty of business cards! \n\n\n\nD&D Garage Doors invites you to visit their showroom\, play some cornhole\, enjoy some yummy treats made by Dallas and Denvers Mom and win some fabulous prizes.
X-ALT-DESC;FMTTYPE=text/html:<span style="font-size:14px\;"><span style="font-family:arial\;">Come Mix and Mingle with your fellow members! Be sure to bring plenty of business cards!&nbsp\;<br />\n<br />\nD&amp\;D Garage Doors invites you to visit their<span style="color: rgb(34\, 34\, 34)\; line-height: normal\;">&nbsp\;showroom\, play some cornhole\, enjoy some yummy treats made by Dallas and Denvers Mom and win some fabulous prizes.</span></span></span>
LOCATION:D&D Garage Doors 1177 Cattlemen Rd\, Sarasota\, FL 34232
UID:e.9232.605
SEQUENCE:3
DTSTAMP:20260421T174610Z
URL:https://business.ms-bia.org/events/details/member-mixer-at-d-d-garage-doors-09-24-2015-605
END:VEVENT

END:VCALENDAR
