BEGIN:VCALENDAR
VERSION:2.0
PRODID:-//ChamberMaster//Event Calendar 2.0//EN
METHOD:PUBLISH
X-PUBLISHED-TTL:P3D
REFRESH-INTERVAL:P3D
CALSCALE:GREGORIAN
BEGIN:VEVENT
DTSTART:20150709T213000Z
DTEND:20150709T233000Z
X-MICROSOFT-CDO-ALLDAYEVENT:FALSE
SUMMARY:Member Mixer at 1st Choice Industries
DESCRIPTION:Come Mix and Mingle with your fellow members! Be sure to bring plenty of business cards! \n\n\n\n1st Choice Interiors invites us to visit their 25\,000 sq foot facility\, view the shop\, see products in production\, and mill around our showroom to\n\nnetwork.\n\n\n\nFood and beverages catered by The Ranch Grill
X-ALT-DESC;FMTTYPE=text/html:<span style="font-size:14px\;"><span style="font-family:arial\;">Come Mix and Mingle with your fellow members! Be sure to bring plenty of business cards!&nbsp\;<br />\n<br />\n1st Choice Interiors invites us to&nbsp\;<span style="color: rgb(34\, 34\, 34)\; line-height: normal\;">visit their 25\,000 sq foot facility\,&nbsp\;</span><span style="color: rgb(34\, 34\, 34)\; line-height: normal\;">view the shop\, see products in production\, and mill around our showroom to</span><br style="color: rgb(34\, 34\, 34)\; font-family: arial\, sans-serif\; font-size: 12.8000001907349px\; line-height: normal\;" />\n<span style="color: rgb(34\, 34\, 34)\; line-height: normal\;">network.</span><br />\n<br />\n<span style="color: rgb(34\, 34\, 34)\; line-height: normal\;">Food and beverages catered by The&nbsp\;</span><span style="color: rgb(34\, 34\, 34)\; line-height: normal\;">Ranch Grill</span></span></span>
LOCATION:1st Choice Industries 6114 33rd Street East Bradenton\, FL 34203
UID:e.9232.604
SEQUENCE:3
DTSTAMP:20260421T185734Z
URL:https://business.ms-bia.org/events/details/member-mixer-at-1st-choice-industries-07-09-2015-604
END:VEVENT

END:VCALENDAR
