BEGIN:VCALENDAR
VERSION:2.0
PRODID:-//ChamberMaster//Event Calendar 2.0//EN
METHOD:PUBLISH
X-PUBLISHED-TTL:P3D
REFRESH-INTERVAL:P3D
CALSCALE:GREGORIAN
BEGIN:VEVENT
DTSTART:20190629T160000Z
DTEND:20190629T200000Z
X-MICROSOFT-CDO-ALLDAYEVENT:FALSE
SUMMARY:Meet & Greet Family Cookout!
DESCRIPTION:Join us for a family cookout and meet the team & their family with Interiors Associates. \n\n\n\nWe are a dual veteran owned business that supplies interior remodeling products to residential and commercial properties. From flooring to doors and everything in between\, Interiors Associates is a purveyor of fine interior remodeling products that give clients a space they'll enjoy spending time in for years to come.\n\n\n\nFree to attend but please RSVP to account for food. Thank you.\n\nhttps://www.facebook.com/events/2348231468795926/
X-ALT-DESC;FMTTYPE=text/html:<strong><span style="background-color:rgb(255\, 255\, 255)\; color:rgb(29\, 33\, 41)\; font-family:helvetica\,arial\,sans-serif\; font-size:14px">Join us for a family cookout and meet the team &amp\; their family with Interiors Associates. </span></strong><br />\n<br />\n<span style="background-color:rgb(255\, 255\, 255)\; color:rgb(29\, 33\, 41)\; font-family:helvetica\,arial\,sans-serif\; font-size:14px">We are a dual veteran owned business that supplies interior remodeling products to residential and commercial properties. From flooring to doors and everything in between\, Interiors Associates is a purveyor of fine interior remodeling products that give clients a space they&#39\;ll enjoy spending time in for years to come.</span><br />\n<br />\n<span style="color:rgb(29\, 33\, 41)\; font-family:helvetica\,arial\,sans-serif\; font-size:14px"><span style="background-color:#40E0D0">Free to attend but please RSVP to account for food. Thank you.</span><br />\n<a href="https://www.facebook.com/events/2348231468795926/">https://www.facebook.com/events/2348231468795926/</a></span>
LOCATION:1833 Tamiami Trl S Venice\, FL 34293 Coming South on 41 you'll need to make a u-turn and look for the street sign that says "Fine Interior Remodeling"
UID:e.9232.2145
SEQUENCE:3
DTSTAMP:20260424T123455Z
URL:https://business.ms-bia.org/events/details/meet-greet-family-cookout-2145
END:VEVENT

END:VCALENDAR
