BEGIN:VCALENDAR
VERSION:2.0
PRODID:-//ChamberMaster//Event Calendar 2.0//EN
METHOD:PUBLISH
X-PUBLISHED-TTL:P3D
REFRESH-INTERVAL:P3D
CALSCALE:GREGORIAN
BEGIN:VEVENT
DTSTART:20170405T170000Z
DTEND:20170405T203000Z
X-MICROSOFT-CDO-ALLDAYEVENT:FALSE
SUMMARY:Lakewood Ranch SamTram
DESCRIPTION:Realtors! Please join us April 5th for SamTram\, featuring stops at Savanna at Lakewood Ranch\, Arbor Grande and Mallory Park.\n\n\n\n \n\n\n\nEnjoy lite bites and drinks while you meet and greet with builders and sales reps from Meritage Homes\, CalAtlantic Homes\, DiVosta and Lennar.\n\n\n\n \n\n\n\nWe will all be meeting at the Realtors Association of Sarasota and Manatee (North Office)\, from there we will board a trolley and/or bus that will then drive us to the different locations.
X-ALT-DESC;FMTTYPE=text/html:<div data-contents="true">\n<div data-block="true" data-editor="89uoh" data-offset-key="aqv8k-0-0">\n<div class="_1mf _1mj" data-offset-key="aqv8k-0-0"><span data-offset-key="aqv8k-0-0"><span data-text="true">Realtors! Please&nbsp\;join us&nbsp\;April 5th for&nbsp\;SamTram\, featuring stops at Savanna at Lakewood Ranch\, Arbor Grande&nbsp\;and&nbsp\;Mallory Park.</span></span></div>\n</div>\n\n<div data-block="true" data-editor="89uoh" data-offset-key="6pgmt-0-0">\n<div class="_1mf _1mj" data-offset-key="6pgmt-0-0">&nbsp\;</div>\n</div>\n\n<div data-block="true" data-editor="89uoh" data-offset-key="a5mat-0-0">\n<div class="_1mf _1mj" data-offset-key="a5mat-0-0"><span data-offset-key="a5mat-0-0"><span data-text="true">Enjoy lite bites and drinks while you meet and greet with builders and sales reps from Meritage Homes\, CalAtlantic Homes\, DiVosta&nbsp\;and Lennar.</span></span></div>\n</div>\n\n<div data-block="true" data-editor="89uoh" data-offset-key="bbdv0-0-0">\n<div class="_1mf _1mj" data-offset-key="bbdv0-0-0">&nbsp\;</div>\n</div>\n\n<div data-block="true" data-editor="89uoh" data-offset-key="7h5lo-0-0">\n<div class="_1mf _1mj" data-offset-key="7h5lo-0-0"><span data-offset-key="7h5lo-0-0"><span data-text="true">We will all be meeting at the Realtors Association of Sarasota and Manatee (North Office)\, from there we will board a trolley and/or bus that will then drive us to the different locations.</span></span></div>\n</div>\n</div>\n
LOCATION:Starting at Realtor Association of Sarasota and Manatee (RASM) North 10910 Technology Terrace\, LWR
UID:e.9232.1764
SEQUENCE:3
DTSTAMP:20260422T134222Z
URL:https://business.ms-bia.org/events/details/lakewood-ranch-samtram-1764
END:VEVENT

END:VCALENDAR
