BEGIN:VCALENDAR
VERSION:2.0
PRODID:-//ChamberMaster//Event Calendar 2.0//EN
METHOD:PUBLISH
X-PUBLISHED-TTL:P3D
REFRESH-INTERVAL:P3D
CALSCALE:GREGORIAN
BEGIN:VEVENT
DTSTART:20151111T230000Z
DTEND:20151112T020000Z
X-MICROSOFT-CDO-ALLDAYEVENT:FALSE
SUMMARY:Installation of Officers and Membership Meeting
DESCRIPTION:Join us for the Installation of the 2016 Board of Directors with a fabulous dinner and lots of networking.
X-ALT-DESC;FMTTYPE=text/html:Join us for the Installation of the 2016 Board of Directors with&nbsp\;a fabulous dinner and lots of networking.
LOCATION:Lakewood Ranch Country Club
UID:e.9232.1034
SEQUENCE:3
DTSTAMP:20260421T132945Z
URL:https://business.ms-bia.org/events/details/installation-of-officers-and-membership-meeting-11-11-2015-1034
END:VEVENT

END:VCALENDAR
