BEGIN:VCALENDAR
VERSION:2.0
PRODID:-//ChamberMaster//Event Calendar 2.0//EN
METHOD:PUBLISH
X-PUBLISHED-TTL:P3D
REFRESH-INTERVAL:P3D
CALSCALE:GREGORIAN
BEGIN:VEVENT
DTSTART:20250718T200000Z
DTEND:20250718T210000Z
X-MICROSOFT-CDO-ALLDAYEVENT:FALSE
SUMMARY:Inshore Captains Meeting- 2025 Sarasota Slam
DESCRIPTION:Inshore Captains Meeting for the 2025 Sarasota Slam. Inshore anglers are released to fish after the meeting.
X-ALT-DESC;FMTTYPE=text/html:Inshore Captains Meeting for the 2025 Sarasota Slam. Inshore anglers are released to fish after the meeting.
LOCATION:Marina Jack
UID:e.9232.4332
SEQUENCE:3
DTSTAMP:20260422T060243Z
URL:https://business.ms-bia.org/events/details/inshore-captains-meeting-2025-sarasota-slam-4332
END:VEVENT

END:VCALENDAR
