BEGIN:VCALENDAR
VERSION:2.0
PRODID:-//ChamberMaster//Event Calendar 2.0//EN
METHOD:PUBLISH
X-PUBLISHED-TTL:P3D
REFRESH-INTERVAL:P3D
CALSCALE:GREGORIAN
BEGIN:VEVENT
DTSTART:20181018T113000Z
DTEND:20181018T123000Z
X-MICROSOFT-CDO-ALLDAYEVENT:FALSE
SUMMARY:Industry Issues Committee Meeting
DESCRIPTION:The Industry Issues Committee serves as a recommending body to the MSBIA Executive Committee and Board of Directors for policy development and action on development and building issues of either local or statewide impact to the home building industry. The Industry Issues Chair acts as a liaison between the Committee and the Board.
X-ALT-DESC;FMTTYPE=text/html:<p class="x_MsoNormal" style="margin: 0in 0in 0.0001pt\; font-size: 11pt\; font-family: Calibri\, sans-serif\; color: rgb(33\, 33\, 33)\; line-height: normal\;"><span style="color: rgb(33\, 33\, 33)\; font-family: Calibri\, sans-serif\; font-size: 14.6667px\;">The Industry Issues Committee&nbsp\;</span><span style="color: rgb(33\, 33\, 33)\; font-family: Calibri\, sans-serif\; font-size: 14.6667px\;">serves as a recommending body to the&nbsp\;</span>MSBIA<span style="color: rgb(33\, 33\, 33)\; font-family: Calibri\, sans-serif\; font-size: 14.6667px\;">&nbsp\;Executive Committee and Board of Directors for policy development and action on development and building issues of either local or statewide impact to the home building industry.&nbsp\;The Industry Issues Chair acts as&nbsp\;a liaison between the Committee and the Board.</span></p>\n
LOCATION:MSBIA Office 6650 Professional Parkway West Suite 102 Sarasota\, FL 34240
UID:e.9232.1835
SEQUENCE:3
DTSTAMP:20260423T201454Z
URL:https://business.ms-bia.org/events/details/industry-issues-committee-meeting-10-18-2018-1835
END:VEVENT

END:VCALENDAR
