BEGIN:VCALENDAR
VERSION:2.0
PRODID:-//ChamberMaster//Event Calendar 2.0//EN
METHOD:PUBLISH
X-PUBLISHED-TTL:P3D
REFRESH-INTERVAL:P3D
CALSCALE:GREGORIAN
BEGIN:VEVENT
DTSTART;VALUE=DATE:20180109
DTEND;VALUE=DATE:20180112
TRANSP:TRANSPARENT
X-MICROSOFT-CDO-ALLDAYEVENT:TRUE
SUMMARY:IBS International Builders Show
DESCRIPTION:The NAHB International Builders' Show  (IBS) is the largest annual light construction show in the world\, every year attracting 50\,000 visitors from more than 100 countries.
X-ALT-DESC;FMTTYPE=text/html:<span style="color: rgb(51\, 51\, 51)\; font-family: arial\, sans-serif\; font-size: 13px\; background-color: rgb(255\, 255\, 255)\;">The&nbsp\;</span>NAHB<span style="color: rgb(51\, 51\, 51)\; font-family: arial\, sans-serif\; font-size: 13px\; background-color: rgb(255\, 255\, 255)\;">&nbsp\;International Builders&#39\; Show&reg\; (IBS) is the largest annual light construction show in the world\, every year attracting 50\,000 visitors from more than 100 countries.</span>
LOCATION:Orange County Convention Center Orlando\, FL
UID:e.9232.1785
SEQUENCE:3
DTSTAMP:20260423T030122Z
URL:https://business.ms-bia.org/events/details/ibs-international-builders-show-1785
END:VEVENT

END:VCALENDAR
