BEGIN:VCALENDAR
VERSION:2.0
PRODID:-//ChamberMaster//Event Calendar 2.0//EN
METHOD:PUBLISH
X-PUBLISHED-TTL:P3D
REFRESH-INTERVAL:P3D
CALSCALE:GREGORIAN
BEGIN:VEVENT
DTSTART;VALUE=DATE:20160119
DTEND;VALUE=DATE:20160122
TRANSP:TRANSPARENT
X-MICROSOFT-CDO-ALLDAYEVENT:TRUE
SUMMARY:IBS International Builders Show
DESCRIPTION:The NAHB International Builders' Show  (IBS) is the largest annual light construction show in the world\, every year attracting 50\,000 visitors from more than 100 countries.
X-ALT-DESC;FMTTYPE=text/html:<span style="font-family:arial\,sans-serif\;">The NAHB International Builders&#39\; Show&reg\; (IBS) is the largest annual light construction show in the world\, every year attracting 50\,000 visitors from more than 100 countries.</span>
LOCATION:Las Vegas Convention Center Las Vegas\, Nevada
UID:e.9232.1181
SEQUENCE:3
DTSTAMP:20260421T102658Z
URL:https://business.ms-bia.org/events/details/ibs-international-builders-show-01-19-2016-1181
END:VEVENT

END:VCALENDAR
