BEGIN:VCALENDAR
VERSION:2.0
PRODID:-//ChamberMaster//Event Calendar 2.0//EN
METHOD:PUBLISH
X-PUBLISHED-TTL:P3D
REFRESH-INTERVAL:P3D
CALSCALE:GREGORIAN
BEGIN:VEVENT
DTSTART:20190926T220000Z
DTEND:20190927T000000Z
X-MICROSOFT-CDO-ALLDAYEVENT:FALSE
SUMMARY:How You Engineer Your Portfolio is Critical
DESCRIPTION:Just like a commercial airliner needs science\, physics and engineering: so does a prudent portfolio.\n\nWe will discuss Nobel Prize winning research including :\n\n  The efficient market hypothesis\n\n  Modern portfolio theory\n\n  Three factor model\n\n\n\nJoin us for this special workshop at the GROVE in Lakewood Ranch on Thursday\, September 26th at 6pm.\n\n\n\nReserve Now to 941.915.1084\n\nSeating in Limited.
X-ALT-DESC;FMTTYPE=text/html:<span style="color:rgb(29\, 33\, 41)\; font-family:helvetica\,arial\,sans-serif\; font-size:14px">Just like a commercial airliner needs science\, physics and engineering: so does a prudent portfolio.</span><br />\n<span style="color:rgb(29\, 33\, 41)\; font-family:helvetica\,arial\,sans-serif\; font-size:14px">We will discuss Nobel Prize winning research including :</span><br />\n<span style="color:rgb(29\, 33\, 41)\; font-family:helvetica\,arial\,sans-serif\; font-size:14px">&bull\; The efficient market hypothesis</span><br />\n<span style="color:rgb(29\, 33\, 41)\; font-family:helvetica\,arial\,sans-serif\; font-size:14px">&bull\; Modern portfolio theory</span><br />\n<span style="color:rgb(29\, 33\, 41)\; font-family:helvetica\,arial\,sans-serif\; font-size:14px">&bull\; Three factor model</span><br />\n<br />\n<span style="color:rgb(29\, 33\, 41)\; font-family:helvetica\,arial\,sans-serif\; font-size:14px">Join us for this special workshop at the GROVE in Lakewood Ranch on Thursday\, September 26th at 6pm.</span><br />\n<br />\n<span style="color:rgb(29\, 33\, 41)\; font-family:helvetica\,arial\,sans-serif\; font-size:14px">Reserve Now to 941.915.1084</span><br />\n<span style="color:rgb(29\, 33\, 41)\; font-family:helvetica\,arial\,sans-serif\; font-size:14px">Seating in Limited.</span>
LOCATION:GROVE 10670 Boardwalk Loop Lakewood Ranch\, FL 34202
UID:e.9232.2285
SEQUENCE:3
DTSTAMP:20260424T155858Z
URL:https://business.ms-bia.org/events/details/how-you-engineer-your-portfolio-is-critical-2285
END:VEVENT

END:VCALENDAR
