BEGIN:VCALENDAR
VERSION:2.0
PRODID:-//ChamberMaster//Event Calendar 2.0//EN
METHOD:PUBLISH
X-PUBLISHED-TTL:P3D
REFRESH-INTERVAL:P3D
CALSCALE:GREGORIAN
BEGIN:VEVENT
DTSTART:20181023T113000Z
DTEND:20181023T160000Z
X-MICROSOFT-CDO-ALLDAYEVENT:FALSE
SUMMARY:Habitat for Humanity Women Build (PWB)
DESCRIPTION:Professional Women in Building along with Habitat for Humanity will be participating in the Habitat Women Build event. The group will be assigned to a home in North Port and will be assisting with the building efforts.
X-ALT-DESC;FMTTYPE=text/html:Professional Women in Building along with Habitat for Humanity will be participating in the Habitat Women Build event. The group will be assigned to a home in North Port and will be assisting with the building efforts.&nbsp\;
LOCATION:North Port
UID:e.9232.1900
SEQUENCE:3
DTSTAMP:20260423T201742Z
URL:https://business.ms-bia.org/events/details/habitat-for-humanity-women-build-pwb-1900
END:VEVENT

END:VCALENDAR
