BEGIN:VCALENDAR
VERSION:2.0
PRODID:-//ChamberMaster//Event Calendar 2.0//EN
METHOD:PUBLISH
X-PUBLISHED-TTL:P3D
REFRESH-INTERVAL:P3D
CALSCALE:GREGORIAN
BEGIN:VEVENT
DTSTART:20180716T200000Z
DTEND:20180716T210000Z
X-MICROSOFT-CDO-ALLDAYEVENT:FALSE
SUMMARY:Government Affairs Meeting
DESCRIPTION:Government Affairs Meeting
X-ALT-DESC;FMTTYPE=text/html:Government Affairs Meeting&nbsp\;&nbsp\;&nbsp\;&nbsp\;&nbsp\;&nbsp\;&nbsp\;&nbsp\;
LOCATION:MSBIA Office 6650 Professional Pkwy West Suite 102 Sarasota\, FL 34240
UID:e.9232.1860
SEQUENCE:3
DTSTAMP:20260423T134534Z
URL:https://business.ms-bia.org/events/details/government-affairs-meeting-1860
END:VEVENT

END:VCALENDAR
