BEGIN:VCALENDAR
VERSION:2.0
PRODID:-//ChamberMaster//Event Calendar 2.0//EN
METHOD:PUBLISH
X-PUBLISHED-TTL:P3D
REFRESH-INTERVAL:P3D
CALSCALE:GREGORIAN
BEGIN:VEVENT
DTSTART:20170214T210000Z
DTEND:20170214T220000Z
X-MICROSOFT-CDO-ALLDAYEVENT:FALSE
SUMMARY:Government Affairs
DESCRIPTION:
X-ALT-DESC;FMTTYPE=text/html:
LOCATION:BIA - Headquarters
UID:e.9232.1763
SEQUENCE:3
DTSTAMP:20260422T102418Z
URL:https://business.ms-bia.org/events/details/government-affairs-1763
END:VEVENT

END:VCALENDAR
