BEGIN:VCALENDAR
VERSION:2.0
PRODID:-//ChamberMaster//Event Calendar 2.0//EN
METHOD:PUBLISH
X-PUBLISHED-TTL:P3D
REFRESH-INTERVAL:P3D
CALSCALE:GREGORIAN
BEGIN:VEVENT
DTSTART:20180412T150000Z
DTEND:20180412T170000Z
X-MICROSOFT-CDO-ALLDAYEVENT:FALSE
SUMMARY:GMM Legislative Update
DESCRIPTION:April GMM: Legislative Update\n\nModerator: Commissioner Bill Truex (Charlotte County Commission)\n\nGuest Speakers Invited:\n\nSenate President Bill Galvano\n\nSenator Greg Steube\n\nRepresentative Julio Gonzalez\n\nRepresentative Jim Boyd\n\nRepresentative Joe Gruters\n\nRepresentative Wengay Newton
X-ALT-DESC;FMTTYPE=text/html:April GMM: Legislative Update<br />\nModerator: Commissioner Bill Truex (Charlotte County Commission)<br />\nGuest Speakers Invited:<br />\nSenate President Bill Galvano<br />\nSenator Greg Steube<br />\nRepresentative Julio Gonzalez<br />\nRepresentative Jim Boyd<br />\nRepresentative Joe Gruters<br />\nRepresentative Wengay Newton
LOCATION:Sarasota Yacht Club 1100 John Ringling Blvd Sarasota\, FL 34236
UID:e.9232.1803
SEQUENCE:3
DTSTAMP:20260423T081815Z
URL:https://business.ms-bia.org/events/details/gmm-legislative-update-1803
END:VEVENT

END:VCALENDAR
