BEGIN:VCALENDAR
VERSION:2.0
PRODID:-//ChamberMaster//Event Calendar 2.0//EN
METHOD:PUBLISH
X-PUBLISHED-TTL:P3D
REFRESH-INTERVAL:P3D
CALSCALE:GREGORIAN
BEGIN:VEVENT
DTSTART:20170511T213000Z
DTEND:20170512T003000Z
X-MICROSOFT-CDO-ALLDAYEVENT:FALSE
SUMMARY:General Membership Meeting-SMC Market Snapshot
DESCRIPTION:General Membership Meeting SMC Hosting "Market Snapshot"\n\n\n\nCome hear a snapshot of our current housing market and join in the discussion with our expert panel who will address major economic initiatives and housing trends that affect your business and bottom line.\n\n \n\nRSVP  ASAP ~ Always a sell out crowd!
X-ALT-DESC;FMTTYPE=text/html:<span style="font-size:12px\;"><span style="font-family:arial\;">General Membership Meeting&nbsp\;SMC Hosting &quot\;Market Snapshot&quot\;<br />\n<br />\nCome hear a snapshot of our current housing market and join in the discussion with our expert panel who will address major economic initiatives and housing trends that affect your business and bottom line.<br />\n&nbsp\;<br />\n<span style="color:#000080\;"><span style="font-weight:bold\;">RSVP&nbsp\; ASAP ~ Always a sell out crowd!</span></span></span><br />\n&nbsp\;</span><br />\n&nbsp\;
LOCATION:Lakewood Ranch Golf & Country Club 7650 Legacy Blvd. Lakewood Ranch\, FL 34202
UID:e.9232.1742
SEQUENCE:3
DTSTAMP:20260422T154652Z
URL:https://business.ms-bia.org/events/details/general-membership-meeting-smc-market-snapshot-1742
END:VEVENT

END:VCALENDAR
