BEGIN:VCALENDAR
VERSION:2.0
PRODID:-//ChamberMaster//Event Calendar 2.0//EN
METHOD:PUBLISH
X-PUBLISHED-TTL:P3D
REFRESH-INTERVAL:P3D
CALSCALE:GREGORIAN
BEGIN:VEVENT
DTSTART:20160512T213000Z
DTEND:20160513T003000Z
X-MICROSOFT-CDO-ALLDAYEVENT:FALSE
SUMMARY:General Membership Meeting 5.12.16
DESCRIPTION:Come hear a snapshot of our current housing market and join in the discussion with our expert panel who will address major economic initiatives and housing trends that affect your business and bottom line.\n\n\n\nPanelist include:\n\nJohn Wiseman\, CORE Construction\n\nDrayton Saunders\, Michael Saunders & Company\n\nMark Huey\, Sarasota EDC\n\nClaudine Leger-Wetzel\, Stock Development\n\nModerated by: Mark Gordon\, Managing Editor of The Observer Group\n\n \n\nRSVP ASAP - Always a sell out crowd!\n\nDISPLAY TABLE SPONSORSHIPS ARE AVAILABLE FOR $250\n\n\n\nWe will also have committee reports\, info on how to get involved with the BIA\, lot's of great networking!
X-ALT-DESC;FMTTYPE=text/html:<span style="font-size:14px\;"><span style="font-family:arial\;">Come hear a snapshot of our current housing market and join in the discussion with our expert panel who will address major economic initiatives and housing trends that affect your business and bottom line.<br />\n<br />\nPanelist include:<br />\nJohn Wiseman\, CORE Construction<br />\nDrayton Saunders\, Michael&nbsp\;Saunders &amp\; Company<br />\nMark Huey\, Sarasota EDC<br />\nClaudine Leger-Wetzel\, Stock Development<br />\nModerated by: Mark Gordon\, Managing Editor of The Observer Group<br />\n&nbsp\;<br />\nRSVP ASAP -&nbsp\;Always a sell out crowd!</span></span><br />\n<span style="color:#0000CD\;"><em><strong>DISPLAY TABLE SPONSORSHIPS ARE AVAILABLE FOR $250</strong></em></span><br />\n<br />\nWe will also have committee reports\, info on how to get involved with the BIA\, lot&#39\;s of great networking!&nbsp\;
LOCATION:The Meadows Country Club 3101 Longmeadow Sarasota\, FL 34235
UID:e.9232.1048
SEQUENCE:3
DTSTAMP:20260421T171040Z
URL:https://business.ms-bia.org/events/details/general-membership-meeting-5-12-16-05-12-2016-1048
END:VEVENT

END:VCALENDAR
