BEGIN:VCALENDAR
VERSION:2.0
PRODID:-//ChamberMaster//Event Calendar 2.0//EN
METHOD:PUBLISH
X-PUBLISHED-TTL:P3D
REFRESH-INTERVAL:P3D
CALSCALE:GREGORIAN
BEGIN:VEVENT
DTSTART:20160414T213000Z
DTEND:20160415T003000Z
X-MICROSOFT-CDO-ALLDAYEVENT:FALSE
SUMMARY:General Membership Meeting 4.14.16
DESCRIPTION:Join us for the monthly General Membership Meeting. The April guests will be local elected officials to give up an update on the 2016 Legislative Session.\n\nRepresentatives Jim Boyd and Greg Steube are confirmed to date.\n\n\n\nWe will also have committee reports\, info on how to get involved with the BIA\, lot's of great networking!
X-ALT-DESC;FMTTYPE=text/html:Join us for the monthly General Membership Meeting. The April guests will be local elected officials to give up an update on the 2016&nbsp\;Legislative&nbsp\;Session.<br />\nRepresentatives Jim Boyd and Greg Steube are&nbsp\;confirmed to date.<br />\n<br />\nWe will also have committee reports\, info on how to get involved with the BIA\, lot&#39\;s of great networking!&nbsp\;
LOCATION:Stoneybrook Golf & Country Club at Heritage Harbour 8000 Stone Harbour Loop Bradenton\, FL 34212
UID:e.9232.1047
SEQUENCE:3
DTSTAMP:20260421T150915Z
URL:https://business.ms-bia.org/events/details/general-membership-meeting-4-14-16-04-14-2016-1047
END:VEVENT

END:VCALENDAR
