BEGIN:VCALENDAR
VERSION:2.0
PRODID:-//ChamberMaster//Event Calendar 2.0//EN
METHOD:PUBLISH
X-PUBLISHED-TTL:P3D
REFRESH-INTERVAL:P3D
CALSCALE:GREGORIAN
BEGIN:VEVENT
DTSTART:20160211T223000Z
DTEND:20160212T013000Z
X-MICROSOFT-CDO-ALLDAYEVENT:FALSE
SUMMARY:General Membership Meeting 2.11.16
DESCRIPTION:Join us for the monthly General Membership Meeting.\n\nThe February guest is Tony Polito\, Regional Director of MetroStudy\n\nMetrostudy is the leading provider of primary and secondary market information to the housing and residential construction industry. Metrostudy's actionable business intelligence informs investment decisions that mitigate risk and grow revenue for builders\, developers\, lenders\, suppliers\, retailers\, manufacturers\, telecom providers\, and more. Organizations engaging Metrostudy gain critical insights and actionable intelligence specific to their operating markets.\n\n\n\nWe will also have committee reports\, info on how to get involved with the BIA\, lot's of great networking!
X-ALT-DESC;FMTTYPE=text/html:<span style="font-size:14px\;"><span style="font-family:arial\;">Join us for the monthly General Membership Meeting.<br />\nThe February guest is <strong>Tony Polito\, Regional Director of MetroStudy</strong><br />\n<span style="color: rgb(85\, 85\, 85)\; line-height: 23px\;">Metrostudy is the leading provider of primary and secondary market information to the housing and residential construction industry. Metrostudy&rsquo\;s actionable business intelligence informs investment decisions that mitigate risk and grow revenue for builders\, developers\, lenders\, suppliers\, retailers\, manufacturers\, telecom providers\, and more. Organizations engaging Metrostudy gain critical insights and actionable intelligence specific to their operating markets.</span><br />\n<br />\nWe will also have committee reports\, info on how to get involved with the BIA\, lot&#39\;s of great networking!&nbsp\;</span></span>
LOCATION:The Meadows Country Club 3101 Longmeadow Sarasota\, FL 34235
UID:e.9232.1045
SEQUENCE:3
DTSTAMP:20260421T131436Z
URL:https://business.ms-bia.org/events/details/general-membership-meeting-2-11-16-02-11-2016-1045
END:VEVENT

END:VCALENDAR
