BEGIN:VCALENDAR
VERSION:2.0
PRODID:-//ChamberMaster//Event Calendar 2.0//EN
METHOD:PUBLISH
X-PUBLISHED-TTL:P3D
REFRESH-INTERVAL:P3D
CALSCALE:GREGORIAN
BEGIN:VEVENT
DTSTART:20160927T220000Z
DTEND:20160927T233000Z
X-MICROSOFT-CDO-ALLDAYEVENT:FALSE
SUMMARY:FREE Seminar: How to Avoid the Most Common Remodeling Mistakes
DESCRIPTION:Looking to update your kitchen or bathroom but don't know where to start? Perhaps you are preparing yourself for an upcoming remodel that you hope to start within the next few months. Whatever your situation\, we invite you to join us at one of our remodeling seminars. We will discuss what to expect during a remodel\, how to find the right service providers\, staying within budget and on-schedule\, dealing with unexpected challenges and much more! The seminar is free to attend\, but an RSVP is required\, as seating is limited. RSVP by calling 941-757-3395. More Info: http://bathkitchenremodels.com/seminars/
X-ALT-DESC;FMTTYPE=text/html:Looking to update your kitchen or bathroom but don&rsquo\;t know where to start? Perhaps you are preparing yourself for an upcoming remodel that you hope to start within the next few months. Whatever your situation\, we invite you to join us at one of our remodeling seminars. We will discuss what to expect during a remodel\, how to find the right service providers\, staying within budget and on-schedule\, dealing with unexpected challenges and much more! The seminar is free to attend\, but an RSVP is required\, as seating is limited. RSVP by calling 941-757-3395. More Info: http://bathkitchenremodels.com/seminars/
LOCATION:Gilbert Design Build 816 Manatee Ave #102 Bradenton\, FL 34208
UID:e.9232.1534
SEQUENCE:3
DTSTAMP:20260422T000256Z
URL:https://business.ms-bia.org/events/details/free-seminar-how-to-avoid-the-most-common-remodeling-mistakes-09-27-2016-1534
END:VEVENT

END:VCALENDAR
