BEGIN:VCALENDAR
VERSION:2.0
PRODID:-//ChamberMaster//Event Calendar 2.0//EN
METHOD:PUBLISH
X-PUBLISHED-TTL:P3D
REFRESH-INTERVAL:P3D
CALSCALE:GREGORIAN
BEGIN:VEVENT
DTSTART:20160223T230000Z
DTEND:20160224T003000Z
X-MICROSOFT-CDO-ALLDAYEVENT:FALSE
SUMMARY:FREE Seminar: How to Avoid the Most Common Remodeling Mistakes
DESCRIPTION:Thinking about updating a kitchen or bathroom\, but don't know where to start? Join us as we discuss what to expect during a remodeling\, dealing with unexpected challenges\, the latest trends and more. \n\n \n\nFree to attend. RSVP required as seating is limited. RSVP by calling 941-753-2284.\n\n\n\nWhere: DreamMaker Design Center\n\n816 Manatee Ave East #102\, Bradenton 34208\n\n\n\nMore Info: http://bathkitchenremodels.com/seminars/
X-ALT-DESC;FMTTYPE=text/html:<span style="color:rgb(17\, 17\, 17)"><span style="font-family:arial\,sans-serif">Thinking about updating a kitchen or bathroom\, but don&#39\;t know where to start? Join us as we discuss what to expect during a remodeling\, dealing with unexpected challenges\, the latest trends and more.&nbsp\;</span></span><br />\n&nbsp\;<br />\n<span style="color:rgb(17\, 17\, 17)"><span style="font-family:arial\,sans-serif"><strong>Free to attend. RSVP required as seating is limited.</strong>&nbsp\;RSVP by calling 941-753-2284.</span></span><br />\n<br />\n<span style="color:rgb(17\, 17\, 17)"><span style="font-family:arial\,sans-serif"><strong>Where:</strong>&nbsp\;DreamMaker Design Center<br />\n816 Manatee Ave East #102\, Bradenton 34208<br />\n<br />\n<strong>More Info:</strong>&nbsp\;<a href="http://bathkitchenremodels.com/seminars/">http://bathkitchenremodels.com/seminars/</a></span></span>
LOCATION:
UID:e.9232.1253
SEQUENCE:3
DTSTAMP:20260421T120131Z
URL:https://business.ms-bia.org/events/details/free-seminar-how-to-avoid-the-most-common-remodeling-mistakes-02-23-2016-1253
END:VEVENT

END:VCALENDAR
