BEGIN:VCALENDAR
VERSION:2.0
PRODID:-//ChamberMaster//Event Calendar 2.0//EN
METHOD:PUBLISH
X-PUBLISHED-TTL:P3D
REFRESH-INTERVAL:P3D
CALSCALE:GREGORIAN
BEGIN:VEVENT
DTSTART:20180221T230000Z
DTEND:20180222T003000Z
X-MICROSOFT-CDO-ALLDAYEVENT:FALSE
SUMMARY:Free Seminar: How to Avoid the Most Common Remodeling Mistakes
DESCRIPTION:Looking to update your kitchen or bathroom but don't know where to start? Perhaps you are preparing yourself for an upcoming remodel that you hope to start within the next few months. \n\n\n\nWhatever your situation\, we invite you to join us at one of our remodeling seminars. \n\n\n\nWe will discuss:\n\n- What to expect during a remodel\n\n- How to find the right service providers\n\n- Staying within budget dealing with unexpected challenges\n\n- And much more!\n\n \n\nThe seminar is free to attend\, but an RSVP is required\, as seating is limited. RSVP by calling 941-757-3395.
X-ALT-DESC;FMTTYPE=text/html:<span style="color:#1D2129"><span style="font-family:inherit\,serif"><strong>Looking to update your kitchen or bathroom but don&rsquo\;t know where to start?</strong> Perhaps you are preparing yourself for an upcoming remodel that you hope to start within the next few months. </span></span><br />\n<br />\n<span style="color:#1D2129"><span style="font-family:inherit\,serif">Whatever your situation\, we invite you to join us at one of our remodeling seminars. </span></span><br />\n<br />\n<u><span style="color:#1D2129"><span style="font-family:inherit\,serif">We will discuss:</span></span></u><br />\n<span style="color:#1D2129"><span style="font-family:inherit\,serif">- What to expect during a remodel</span></span><br />\n<span style="color:#1D2129"><span style="font-family:inherit\,serif">- How to find the right service providers</span></span><br />\n<span style="color:#1D2129"><span style="font-family:inherit\,serif">- Staying within budget dealing with unexpected challenges</span></span><br />\n<span style="color:#1D2129"><span style="font-family:inherit\,serif">- And much more!</span></span><br />\n&nbsp\;<br />\n<span style="color:#1D2129"><span style="font-family:inherit\,serif"><span style="font-size:11.0pt">The seminar is free to attend\, but an RSVP is required\, as seating is limited. RSVP by calling 941-757-3395.</span></span></span>
LOCATION:Gilbert Design Build Sarasota Design Center 4049 Clark Rd\, Sarasota 34233
UID:e.9232.1868
SEQUENCE:3
DTSTAMP:20260423T045503Z
URL:https://business.ms-bia.org/events/details/free-seminar-how-to-avoid-the-most-common-remodeling-mistakes-02-21-2018-1868
END:VEVENT

END:VCALENDAR
