BEGIN:VCALENDAR
VERSION:2.0
PRODID:-//ChamberMaster//Event Calendar 2.0//EN
METHOD:PUBLISH
X-PUBLISHED-TTL:P3D
REFRESH-INTERVAL:P3D
CALSCALE:GREGORIAN
BEGIN:VEVENT
DTSTART:20180423T120000Z
DTEND:20180423T160000Z
X-MICROSOFT-CDO-ALLDAYEVENT:FALSE
SUMMARY:Five Things to Maximize Personal & Business Production
DESCRIPTION:Sales & Marketing Council \n\nBreakfast Seminar\n\nSpeaker: Steve Black\, Business Success Training\n\nhttp://www.businesssuccesstraining.com/
X-ALT-DESC;FMTTYPE=text/html:Sales &amp\; Marketing Council&nbsp\;<br />\nBreakfast Seminar<br />\nSpeaker: Steve Black\, Business Success Training<br />\n<a href="http://www.businesssuccesstraining.com/">http://www.businesssuccesstraining.com/</a>
LOCATION:Polo Grill 10670 Boardwalk Loop Lakewood Ranch\, FL 34202
UID:e.9232.1847
SEQUENCE:3
DTSTAMP:20260423T084056Z
URL:https://business.ms-bia.org/events/details/five-things-to-maximize-personal-business-production-1847
END:VEVENT

END:VCALENDAR
