BEGIN:VCALENDAR
VERSION:2.0
PRODID:-//ChamberMaster//Event Calendar 2.0//EN
METHOD:PUBLISH
X-PUBLISHED-TTL:P3D
REFRESH-INTERVAL:P3D
CALSCALE:GREGORIAN
BEGIN:VEVENT
DTSTART;VALUE=DATE:20190311
DTEND;VALUE=DATE:20190314
TRANSP:TRANSPARENT
X-MICROSOFT-CDO-ALLDAYEVENT:TRUE
SUMMARY:FHBA Legislative Conference
DESCRIPTION:FHBA Legislative Conference\n\nClick Here for more information.
X-ALT-DESC;FMTTYPE=text/html:FHBA Legislative Conference<br />\n<a href="http://fhba.com/index.cfm?referer=calendar.calendarEvent&amp\;id=678">Click Here for more information.</a>
LOCATION:Tallahassee\, FL
UID:e.9232.2048
SEQUENCE:3
DTSTAMP:20260424T033540Z
URL:https://business.ms-bia.org/events/details/fhba-legislative-conference-2048
END:VEVENT

END:VCALENDAR
