BEGIN:VCALENDAR
VERSION:2.0
PRODID:-//ChamberMaster//Event Calendar 2.0//EN
METHOD:PUBLISH
X-PUBLISHED-TTL:P3D
REFRESH-INTERVAL:P3D
CALSCALE:GREGORIAN
BEGIN:VEVENT
DTSTART:20260209T140000Z
DTEND:20260209T150000Z
X-MICROSOFT-CDO-ALLDAYEVENT:FALSE
SUMMARY:Developers Council
DESCRIPTION:Join us on the second Monday of every month at 9:00 am for the Developers Council.\n\nThe Developers Council is active at the county and state levels\, monitoring ordinances and regulations that affect the development community. It is open to any Developer member of the Suncoast Builders Association. Members in related fields\, such as engineering and land planning\, will also find the council meetings useful.\n\nPlease be sure to register in advance to receive the Microsoft Teams meeting link.
X-ALT-DESC;FMTTYPE=text/html:<p data-end="168" data-start="84">Join us on the second Monday of every month at 9:00 am for the Developers Council.</p>\n\n<p data-end="501" data-start="175">The Developers Council is active at the county and state levels\, monitoring ordinances and regulations that affect the development community. It is open to any Developer member of the Suncoast Builders Association. Members in related fields\, such as engineering and land planning\, will also find the council meetings useful.</p>\n\n<p data-end="594" data-start="508"><strong data-end="594" data-start="508">Please be sure to register in advance to receive the Microsoft Teams meeting link.</strong></p>\n
LOCATION:Suncoast Builders Association 6650 Professional Parkway W\, Suite 102 Sarasota\, FL 34240
UID:e.9232.5364
SEQUENCE:3
DTSTAMP:20260421T160357Z
URL:https://business.ms-bia.org/events/details/developers-council-5364
END:VEVENT

END:VCALENDAR
