BEGIN:VCALENDAR
VERSION:2.0
PRODID:-//ChamberMaster//Event Calendar 2.0//EN
METHOD:PUBLISH
X-PUBLISHED-TTL:P3D
REFRESH-INTERVAL:P3D
CALSCALE:GREGORIAN
BEGIN:VEVENT
DTSTART:20150930T120000Z
DTEND:20150930T130000Z
X-MICROSOFT-CDO-ALLDAYEVENT:FALSE
SUMMARY:CFPB Changes - Get In The Know
DESCRIPTION:Get In The Know\n\nTILA/RESPA Integrated Disclosures\n\n\n\nShould we bee worried about the CFPB changes?\n\nClosing vs Consummation?\n\nWhat type of transactions will be affected?\n\nPotential Penalties?\n\n\n\nJoin us to learn about the CFPB Rules and how they are going to affect YOUR business.\n\n\n\nPresented by: John Stresthly\, Vice President\n\nFirst International Title
X-ALT-DESC;FMTTYPE=text/html:<p>Get In The Know<br />\nTILA/RESPA Integrated Disclosures<br />\n<br />\nShould we bee worried about the CFPB changes?<br />\nClosing vs Consummation?<br />\nWhat type of transactions&nbsp\;will be affected?<br />\nPotential Penalties?<br />\n<br />\nJoin us to learn about the CFPB Rules and how they are going to affect <em><strong>YOUR</strong></em> business.<br />\n<br />\nPresented by: John Stresthly\, Vice President<br />\nFirst International Title</p>\n
LOCATION:MSBIA Office 6983 Professional Parkway East Sarasota (Lakewood Ranch)\, FL 34240
UID:e.9232.907
SEQUENCE:3
DTSTAMP:20260421T160422Z
URL:https://business.ms-bia.org/events/details/cfpb-changes-get-in-the-know-09-30-2015-907
END:VEVENT

END:VCALENDAR
