BEGIN:VCALENDAR
VERSION:2.0
PRODID:-//ChamberMaster//Event Calendar 2.0//EN
METHOD:PUBLISH
X-PUBLISHED-TTL:P3D
REFRESH-INTERVAL:P3D
CALSCALE:GREGORIAN
BEGIN:VEVENT
DTSTART:20260223T210000Z
DTEND:20260223T220000Z
X-MICROSOFT-CDO-ALLDAYEVENT:FALSE
SUMMARY:{Canceled} Sarasota Slam Committee Meeting
DESCRIPTION:The Sarasota Slam crew is excited to celebrate the 26th Annual Sarasota Slam\, and we're already gearing up for another unforgettable event! The action kicks off with a festive Kickoff Party on Friday\, May 29th\, followed by an exciting tournament schedule June 4th 6th. With more than two decades of tradition behind it\, the 2026 Sarasota Slam is shaping up to be one you won't want to miss.\n\nWant to get involved? Join us at our upcoming committee meeting to learn how you can play a role in bringing this year's event to life. Don't miss your chance to be part of the Sarasota Slam tradition and help make this year truly memorable!
X-ALT-DESC;FMTTYPE=text/html:<div style="text-align: center\;">\n<p data-end="531" data-start="129"><span style="font-family:verdana\;"><strong>The Sarasota Slam crew is excited to celebrate the <strong data-end="209" data-start="180">26th Annual Sarasota Slam</strong>\, and we&rsquo\;re already gearing up for another unforgettable event! The action kicks off with a festive <strong data-end="346" data-start="309">Kickoff Party on Friday\, May 29th</strong>\, followed by an exciting tournament schedule <strong data-end="408" data-start="392">June 4th&ndash\;6th</strong>. With more than two decades of tradition behind it\, the 2026 Sarasota Slam is shaping up to be one you won&rsquo\;t want to miss.</strong></span></p>\n\n<p data-end="774" data-start="533"><span style="font-family:verdana\;"><strong>Want to get involved? Join us at our upcoming committee meeting to learn how you can play a role in bringing this year&rsquo\;s event to life. Don&rsquo\;t miss your chance to be part of the Sarasota Slam tradition and help make this year truly memorable!</strong></span></p>\n</div>\n
LOCATION:Suncoast Builders Association Office 6650 Professional Pkwy West Suite 102 Sarasota\, FL 34240
UID:e.9232.5357
SEQUENCE:3
DTSTAMP:20260421T161600Z
URL:https://business.ms-bia.org/events/details/canceled-sarasota-slam-committee-meeting-5357
END:VEVENT

END:VCALENDAR
