BEGIN:VCALENDAR
VERSION:2.0
PRODID:-//ChamberMaster//Event Calendar 2.0//EN
METHOD:PUBLISH
X-PUBLISHED-TTL:P3D
REFRESH-INTERVAL:P3D
CALSCALE:GREGORIAN
BEGIN:VEVENT
DTSTART;VALUE=DATE:20160127
DTEND;VALUE=DATE:20160128
TRANSP:TRANSPARENT
X-MICROSOFT-CDO-ALLDAYEVENT:TRUE
SUMMARY:Business Management for Business Professionals *exemptions apply
DESCRIPTION:Learn the management skills that give industry leaders the edge. This course will give you a solid foundation for managing small to medium size building/remodeling and service companies. This course explains critical elements from planning to evaluating progress and presents practical tips and tools for managing a business successfully. As a graduate you will be able to: Identify common business challenges and ways to overcome them.\; Describe the three basic functional areas of a business\; Describe how to plan effectively for achieving business success\; Describe the organzination and processs that company needs to have in place to run efficiently\; Identify methods for recruiting\, interviewing\, training and retaining quality personnel\; Identify performance tools to help yo achieve success.\; Identify methods for evaluating your progress.
X-ALT-DESC;FMTTYPE=text/html:Learn the management skills that give industry leaders the edge. This course will give you a solid foundation for managing small to medium size building/remodeling and service companies. This course explains critical elements from planning to evaluating progress and presents practical tips and tools for managing a business successfully. As a graduate you will be able to: Identify common business challenges and ways to overcome them.\; Describe the three basic functional areas of a business\; Describe how to plan effectively for achieving business success\; Describe the organzination and processs that company needs to have in place to run efficiently\; Identify methods for recruiting\, interviewing\, training and retaining quality personnel\; Identify performance tools to help yo achieve success.\; Identify methods for evaluating your progress.
LOCATION:BIA_Manatee-Sarsota Building Industry Association 6983 Professional Parkway E. Sarasota\, FL 34240
UID:e.9232.1041
SEQUENCE:3
DTSTAMP:20260421T120638Z
URL:https://business.ms-bia.org/events/details/business-management-for-business-professionals-exemptions-apply-01-27-2016-1041
END:VEVENT

END:VCALENDAR
