BEGIN:VCALENDAR
VERSION:2.0
PRODID:-//ChamberMaster//Event Calendar 2.0//EN
METHOD:PUBLISH
X-PUBLISHED-TTL:P3D
REFRESH-INTERVAL:P3D
CALSCALE:GREGORIAN
BEGIN:VEVENT
DTSTART:20180125T223000Z
DTEND:20180126T010000Z
X-MICROSOFT-CDO-ALLDAYEVENT:FALSE
SUMMARY:Builders & Bourbon
DESCRIPTION:Come mingle with fellow members or if you are not a member come see what the MSBIA is all about!\n\n\n\nFood Truck will be serving food available for purchase.
X-ALT-DESC;FMTTYPE=text/html:Come mingle with fellow members or if you are not a member come see what the MSBIA is all about!<br />\n<br />\nFood Truck will be serving food available for purchase.&nbsp\;
LOCATION:6650 Professional Pkwy West Suite 102 Sarasota\, FL 34240
UID:e.9232.1788
SEQUENCE:3
DTSTAMP:20260423T044914Z
URL:https://business.ms-bia.org/events/details/builders-bourbon-1788
END:VEVENT

END:VCALENDAR
