BEGIN:VCALENDAR
VERSION:2.0
PRODID:-//ChamberMaster//Event Calendar 2.0//EN
METHOD:PUBLISH
X-PUBLISHED-TTL:P3D
REFRESH-INTERVAL:P3D
CALSCALE:GREGORIAN
BEGIN:VEVENT
DTSTART:20170324T153000Z
DTEND:20170324T173000Z
X-MICROSOFT-CDO-ALLDAYEVENT:FALSE
SUMMARY:Builder Luncheon
DESCRIPTION:Hear from City of Sarasota Building Official\, Larry Murphy about the pending Tree Ordinance issues.
X-ALT-DESC;FMTTYPE=text/html:<div>Hear from City of Sarasota Building Official\, Larry Murphy about the pending Tree Ordinance issues.</div>\n
LOCATION:Sarasota Yacht Club 1100 John Ringling Blvd. Sarasota\, FL. 34236
UID:e.9232.1765
SEQUENCE:3
DTSTAMP:20260422T103744Z
URL:https://business.ms-bia.org/events/details/builder-luncheon-1765
END:VEVENT

END:VCALENDAR
