BEGIN:VCALENDAR
VERSION:2.0
PRODID:-//ChamberMaster//Event Calendar 2.0//EN
METHOD:PUBLISH
X-PUBLISHED-TTL:P3D
REFRESH-INTERVAL:P3D
CALSCALE:GREGORIAN
BEGIN:VEVENT
DTSTART:20261015T213000Z
DTEND:20261015T230000Z
X-MICROSOFT-CDO-ALLDAYEVENT:FALSE
SUMMARY:Builder Link featuring SimplyDwell Homes\, Neal Signature & Neal Communities
DESCRIPTION:Builder Link: An Exclusive Connection Experience for Associate Members\n\nThe Suncoast Builders Association invites Associate Members to take part in our Builder Link series   a refined\, high-impact event designed to create intentional\, meaningful connections with local builders.\n\nBuilder Link events are purposefully structured to encourage quality conversations\, not crowded networking. Attendance is limited to one associate company per trade\, creating a focused environment where your business can stand out and build genuine relationships.\n\nWhat Makes Builder Link Different:\n\n  One company per trade   no competition in the room\n\n  Direct\, face-to-face time with one custom builder and one production builder\n\n  Curated guest list for intentional\, high-value conversations\n\n  Relaxed setting with lite bites and beverages provided\n\nRegistration & Sponsorship Opportunities\n\n  Associate Member Registration: $60 \n\n  Exclusive Presenting Sponsorship: $1\,000\n\n  Limited to one sponsor per event\n\n  Includes a private\, one-on-one session with the featured builders during the first 30 minutes of the event\n\n  Premier recognition as the event's Presenting Sponsor\n\nThis exclusive format allows associate members to showcase their expertise\, strengthen builder relationships\, and gain valuable insight   all in a setting designed for connection and conversation.\n\n  Location: Golf Therapy Club | Sarasota\n\n  Time: 5:00 7:30 PM\n\nSpace is extremely limited and registration will be accepted on a first-come\, first-secured basis. Once a trade category is filled\, additional companies may be added to a waitlist.\n\nWe look forward to welcoming you to a Builder Link event and helping you build connections that matter.
X-ALT-DESC;FMTTYPE=text/html:<h3 data-end="259" data-start="182" style="text-align: center\;"><strong><span style="font-size: 18px\;"><span new="" style="font-family: " times="">&#128279\; Builder Link: An Exclusive Connection Experience for Associate Members</span></span></strong></h3>\n\n<p data-end="475" data-start="261"><span style="font-size: 18px\;"><span new="" style="font-family: " times="">The Suncoast Builders Association invites&nbsp\;<strong data-end="324" data-start="303">Associate Members</strong>&nbsp\;to take part in our&nbsp\;<strong data-end="361" data-start="345">Builder Link</strong>&nbsp\;series &mdash\; a refined\, high-impact event designed to create intentional\, meaningful connections with local builders.</span></span></p>\n\n<p data-end="744" data-start="477"><span style="font-size: 18px\;"><span new="" style="font-family: " times="">Builder Link events are purposefully structured to encourage quality conversations\, not crowded networking. Attendance is&nbsp\;<strong data-end="645" data-start="599">limited to one associate company per trade</strong>\, creating a focused environment where your business can stand out and build genuine relationships.</span></span></p>\n\n<h3 data-end="784" data-start="746"><span style="font-size: 18px\;"><span new="" style="font-family: " times="">What Makes Builder Link Different:</span></span></h3>\n\n<p data-end="1052" data-start="785"><span style="font-size: 18px\;"><span new="" style="font-family: " times="">&bull\;&nbsp\;<strong data-end="812" data-start="787">One company per trade</strong>&nbsp\;&ndash\; no competition in the room<br data-end="844" data-start="841" />\n&bull\; Direct\, face-to-face time with&nbsp\;<strong data-end="926" data-start="877">one custom builder and one production builder</strong><br data-end="929" data-start="926" />\n&bull\; Curated guest list for intentional\, high-value conversations<br data-end="994" data-start="991" />\n&bull\; Relaxed setting with lite bites and beverages provided</span></span></p>\n\n<h3 data-end="1098" data-start="1054"><span style="font-size: 18px\;"><span new="" style="font-family: " times="">Registration &amp\; Sponsorship Opportunities</span></span></h3>\n\n<p data-end="1430" data-start="1099"><span style="font-size: 18px\;"><span new="" style="font-family: " times="">&bull\;&nbsp\;<strong data-end="1135" data-start="1101">Associate Member Registration:</strong>&nbsp\;<strong data-end="1155" data-start="1136">$60&nbsp\;</strong><br data-end="1158" data-start="1155" />\n&bull\;&nbsp\;<strong data-end="1197" data-start="1160">Exclusive Presenting Sponsorship:</strong>&nbsp\;<strong data-end="1208" data-start="1198">$1\,000</strong><br data-end="1211" data-start="1208" />\n&ndash\; Limited to&nbsp\;<strong data-end="1251" data-start="1226">one sponsor per event</strong><br data-end="1254" data-start="1251" />\n&ndash\; Includes a&nbsp\;<strong data-end="1368" data-start="1269">private\, one-on-one session with the featured builders during the first 30 minutes of the event</strong><br data-end="1371" data-start="1368" />\n&ndash\; Premier recognition as the event&rsquo\;s Presenting Sponsor</span></span></p>\n\n<p data-end="1628" data-start="1432"><span style="font-size: 18px\;"><span new="" style="font-family: " times="">This exclusive format allows associate members to showcase their expertise\, strengthen builder relationships\, and gain valuable insight &mdash\; all in a setting designed for connection and conversation.</span></span></p>\n\n<p data-end="1705" data-start="1630"><span style="font-size: 18px\;"><span new="" style="font-family: " times="">&#128205\;&nbsp\;<strong data-end="1646" data-start="1633">Location:</strong>&nbsp\;Golf Therapy Club | Sarasota<br data-end="1678" data-start="1675" />\n&#128340\;&nbsp\;<strong data-end="1690" data-start="1681">Time:</strong>&nbsp\;5:00&ndash\;7:30&nbsp\;PM</span></span></p>\n\n<p data-end="1891" data-start="1707"><span style="font-size: 18px\;"><span new="" style="font-family: " times="">Space is extremely limited and registration will be accepted on a&nbsp\;<strong data-end="1808" data-start="1773">first-come\, first-secured basis</strong>. Once a trade category is filled\, additional companies may be added to a waitlist.</span></span></p>\n\n<p data-end="1996" data-start="1893"><span style="font-size: 18px\;"><span new="" style="font-family: " times="">We look forward to welcoming you to a Builder Link event and helping you build connections that matter.</span></span></p>\n
LOCATION:Golf Therapy Club | Golf Therapy Club | Sarasota 8120 Ciboney Ct Unit 103\, Sarasota\, FL 34240
UID:e.9232.5155
SEQUENCE:3
DTSTAMP:20260421T221412Z
URL:https://business.ms-bia.org/events/details/builder-link-featuring-simplydwell-homes-neal-signature-neal-communities-5155
END:VEVENT

END:VCALENDAR
