BEGIN:VCALENDAR
VERSION:2.0
PRODID:-//ChamberMaster//Event Calendar 2.0//EN
METHOD:PUBLISH
X-PUBLISHED-TTL:P3D
REFRESH-INTERVAL:P3D
CALSCALE:GREGORIAN
BEGIN:VEVENT
DTSTART:20150408T123000Z
DTEND:20150408T140000Z
X-MICROSOFT-CDO-ALLDAYEVENT:FALSE
SUMMARY:Breakfast @ Robb & Stucky
DESCRIPTION:Join us for an all new MORNING Member Mixer!
X-ALT-DESC;FMTTYPE=text/html:Join us for an all new MORNING Member Mixer!&nbsp\;
LOCATION:Robb & Stucky Furniture | Interiors 7557 South Tamiami Trail\, Sarasota\, Florida 34231
UID:e.9232.603
SEQUENCE:3
DTSTAMP:20260422T014413Z
URL:https://business.ms-bia.org/events/details/breakfast-robb-stucky-04-08-2015-603
END:VEVENT

END:VCALENDAR
