BEGIN:VCALENDAR
VERSION:2.0
PRODID:-//ChamberMaster//Event Calendar 2.0//EN
METHOD:PUBLISH
X-PUBLISHED-TTL:P3D
REFRESH-INTERVAL:P3D
CALSCALE:GREGORIAN
BEGIN:VEVENT
DTSTART:20160427T123000Z
DTEND:20160427T140000Z
X-MICROSOFT-CDO-ALLDAYEVENT:FALSE
SUMMARY:Breakfast Mixer @ Robb & Stucky
DESCRIPTION:Enjoy a networking breakfast hosted by Robb & Stucky and get to know their amazing designers!
X-ALT-DESC;FMTTYPE=text/html:Enjoy a networking breakfast hosted by Robb &amp\; Stucky&nbsp\;and get to know their amazing designers!
LOCATION:Robb & Stucky 7557 S. Tamiami Trail Sarasota FL 34231
UID:e.9232.1523
SEQUENCE:3
DTSTAMP:20260421T150630Z
URL:https://business.ms-bia.org/events/details/breakfast-mixer-robb-stucky-04-27-2016-1523
END:VEVENT

END:VCALENDAR
