BEGIN:VCALENDAR
VERSION:2.0
PRODID:-//ChamberMaster//Event Calendar 2.0//EN
METHOD:PUBLISH
X-PUBLISHED-TTL:P3D
REFRESH-INTERVAL:P3D
CALSCALE:GREGORIAN
BEGIN:VEVENT
DTSTART:20180310T230000Z
DTEND:20180311T020000Z
X-MICROSOFT-CDO-ALLDAYEVENT:FALSE
SUMMARY:Bowling for the Green
DESCRIPTION:Come out and BOWL with your fellow members! Dress up in your favorite St.Patty's Day attire and join us for a wee bit of fun!
X-ALT-DESC;FMTTYPE=text/html:Come out and BOWL with your fellow members! Dress up in your favorite St.Patty&#39\;s Day attire and join us for a wee bit of fun!<br />\n&nbsp\;
LOCATION:Sarasota Lanes 2250 Fruitville Road Sarasota\, FL 34237
UID:e.9232.1851
SEQUENCE:3
DTSTAMP:20260423T063805Z
URL:https://business.ms-bia.org/events/details/bowling-for-the-green-1851
END:VEVENT

END:VCALENDAR
