BEGIN:VCALENDAR
VERSION:2.0
PRODID:-//ChamberMaster//Event Calendar 2.0//EN
METHOD:PUBLISH
X-PUBLISHED-TTL:P3D
REFRESH-INTERVAL:P3D
CALSCALE:GREGORIAN
BEGIN:VEVENT
DTSTART:20160914T210000Z
DTEND:20160914T230000Z
X-MICROSOFT-CDO-ALLDAYEVENT:FALSE
SUMMARY:Betsy Benac Fundraiser
DESCRIPTION:Join Us for Happy Hour Next Week! \n\nSign Distribution and Campaign Fundraiser  \n\n\nBetsy is the only Manatee County resident and Republican running in the race for Manatee County Commission\, District 7.   \n\n\n\nPlease attend a fundraiser happy hour to pick up signs for the campaign and help her move onto victory on Nov. 8\, 2016! \n\n\n\n\nChecks may be made payable to: Betsy Benac Campaign * 11534 52nd Court East * Parrish\, FL 34219
X-ALT-DESC;FMTTYPE=text/html:<p color:="" line-height:="" new="" text-align:="" times="">Join Us for Happy Hour Next Week!&nbsp\;<br />\nSign Distribution and Campaign Fundraiser&nbsp\;&nbsp\;</p>\n\n<div font-size:="" line-height:="" segoe="">\n<p new="" text-align:="" times="">Betsy is the only&nbsp\;Manatee County resident and&nbsp\;Republican&nbsp\;running in the race for Manatee County Commission\, District 7. &nbsp\;&nbsp\;</p>\n</div>\n\n<div font-size:="" line-height:="" segoe="">\n<p new="" text-align:="" times="">Please attend a fundraiser happy hour to pick up signs for the campaign and help her move onto victory on Nov. 8\, 2016!&nbsp\;</p>\n</div>\n\n<div font-size:="" line-height:="" segoe="">\n<div>\n<p new="" text-align:="" times="">Checks may be made payable to:&nbsp\;Betsy Benac Campaign *&nbsp\;11534 52nd Court East * Parrish\, FL 34219</p>\n</div>\n</div>\n
LOCATION:O'Brick's Grill 427 12th Street West Bradenton\, FL 34205
UID:e.9232.1542
SEQUENCE:3
DTSTAMP:20260421T235819Z
URL:https://business.ms-bia.org/events/details/betsy-benac-fundraiser-1542
END:VEVENT

END:VCALENDAR
