BEGIN:VCALENDAR
VERSION:2.0
PRODID:-//ChamberMaster//Event Calendar 2.0//EN
METHOD:PUBLISH
X-PUBLISHED-TTL:P3D
REFRESH-INTERVAL:P3D
CALSCALE:GREGORIAN
BEGIN:VEVENT
DTSTART:20150604T210000Z
DTEND:20150604T230000Z
X-MICROSOFT-CDO-ALLDAYEVENT:FALSE
SUMMARY:Beer & Bull / Spring General Membership Greeting
DESCRIPTION:Come hang out and enjoy a casual evening with members at our office. We will be having frosty beverages and BBQ!
X-ALT-DESC;FMTTYPE=text/html:Come hang out and enjoy a casual evening with members at our office. We will be having frosty beverages and BBQ!
LOCATION:MSBIA Office 6983 Professional Parkway East Sarasota\, FL 34240
UID:e.9232.745
SEQUENCE:3
DTSTAMP:20260421T203454Z
URL:https://business.ms-bia.org/events/details/beer-bull-spring-general-membership-greeting-06-04-2015-745
END:VEVENT

END:VCALENDAR
