BEGIN:VCALENDAR
VERSION:2.0
PRODID:-//ChamberMaster//Event Calendar 2.0//EN
METHOD:PUBLISH
X-PUBLISHED-TTL:P3D
REFRESH-INTERVAL:P3D
CALSCALE:GREGORIAN
BEGIN:VEVENT
DTSTART:20161006T213000Z
DTEND:20161006T233000Z
X-MICROSOFT-CDO-ALLDAYEVENT:FALSE
SUMMARY:B3 - Beer\, Brats & Buddies Tailgate Party
DESCRIPTION:As we kickoff the October Membership Drive\, the MSBIA would like to invite you and encourage you to invite a Future Member to see what your local BIA has to offer!\n\nThere will be RAFFLES\, FOOD\, DRINKS\, CORNHOLE AND LOTS OF GREAT NETWORKING!
X-ALT-DESC;FMTTYPE=text/html:As we kickoff the October Membership Drive\, the MSBIA would like to invite you and encourage you to invite a&nbsp\;Future Member to see what your local BIA has to offer!<br />\nThere will be RAFFLES\, FOOD\, DRINKS\, CORNHOLE AND LOTS OF GREAT NETWORKING!<br />\n&nbsp\;
LOCATION:Manatee-Sarasota BIA Office 6983 Professional Parkway East Lakewood Ranch\, FL 34240
UID:e.9232.1541
SEQUENCE:3
DTSTAMP:20260422T014720Z
URL:https://business.ms-bia.org/events/details/b3-beer-brats-buddies-tailgate-party-1541
END:VEVENT

END:VCALENDAR
