BEGIN:VCALENDAR
VERSION:2.0
PRODID:-//ChamberMaster//Event Calendar 2.0//EN
METHOD:PUBLISH
X-PUBLISHED-TTL:P3D
REFRESH-INTERVAL:P3D
CALSCALE:GREGORIAN
BEGIN:VEVENT
DTSTART:20180208T223000Z
DTEND:20180209T010000Z
X-MICROSOFT-CDO-ALLDAYEVENT:FALSE
SUMMARY:Annual Economic Update / Membership Meeting
DESCRIPTION:GMM Economic Update\n\nTony Polito from MetroStudy will be the speaker.\n\nMetrostudy is the leading provider of primary and secondary market information to the housing and residential construction industry. Metrostudy's actionable business intelligence informs investment decisions that mitigate risk and grow revenue for builders\, developers\, lenders\, suppliers\, retailers\, manufacturers\, telecom providers\, and more. Organizations engaging Metrostudy gain critical insights and actionable intelligence specific to their operating markets.
X-ALT-DESC;FMTTYPE=text/html:<font face="arial"><span style="font-size: 14px\;"><b>GMM&nbsp\;Economic Update</b></span></font><br />\nTony Polito from MetroStudy will be the speaker.<br />\n<span style="font-size: 12px\; color: windowtext\;"><span style="font-family:arial\,sans-serif\;">Metrostudy is the leading provider of primary and secondary market information to the housing and residential construction industry. Metrostudy&rsquo\;s actionable business intelligence informs investment decisions that mitigate risk and grow revenue for </span></span><strong style="font-size: 12px\;">builders\, developers\, lenders\, suppliers\, retailers\, manufacturers\, telecom providers\, </strong><span style="font-size: 12px\;">and more. Organizations engaging </span>Metrostudy<span style="font-size: 12px\;"> gain critical insights and actionable intelligence specific to their operating markets.</span>\n<div>&nbsp\;</div>\n
LOCATION:Lakewood Ranch Country Club 7650 Legacy Blvd Lakewood Ranch\, FL 34202
UID:e.9232.1791
SEQUENCE:3
DTSTAMP:20260423T045600Z
URL:https://business.ms-bia.org/events/details/annual-economic-update-membership-meeting-1791
END:VEVENT

END:VCALENDAR
